BEGIN:VCALENDAR
VERSION:2.0
PRODID:-//reussirsenior.fr//NONSGML kigkonsult.se iCalcreator 2.30.10//
CALSCALE:GREGORIAN
METHOD:PUBLISH
UID:d247649a-4f88-4e49-8ee3-3d225e916e65
X-WR-CALNAME:iCagenda
X-WR-CALDESC:Event Management Extension for Joomla!
X-WR-RELCALID:3E26604A-50F4-4449-8B3E-E4F4932D05B5
X-WR-TIMEZONE:Europe/Paris
BEGIN:VTIMEZONE
TZID:Europe/Paris
BEGIN:STANDARD
TZNAME:CET
DTSTART:20241027T030000
TZOFFSETFROM:+0200
TZOFFSETTO:+0100
RDATE:20251026T030000
RDATE:20261025T030000
END:STANDARD
BEGIN:DAYLIGHT
TZNAME:CEST
DTSTART:20250330T020000
TZOFFSETFROM:+0100
TZOFFSETTO:+0200
RDATE:20260329T020000
END:DAYLIGHT
END:VTIMEZONE
BEGIN:VEVENT
UID:2a71b318-ba76-44be-acae-e9f24b508456
DTSTAMP:20260422T103619Z
CATEGORIES:118 - REUSSIR SENIOR : Régions
CLASS:PUBLIC
DESCRIPTION:
DTSTART:20250612T080000Z
DTEND:20250614T120000Z
GEO:00;0
LOCATION:Montpellier
ORGANIZER:
SEQUENCE:1
SUMMARY:Sortie Montpellier (34) et ses environs
TRANSP:OPAQUE
URL:https://reussirsenior.fr/agenda/393-.html
END:VEVENT
END:VCALENDAR
